BEGIN:VCALENDAR
VERSION:2.0
METHOD:PUBLISH

X-WR-CALNAME;VALUE=TEXT:873093-100.9 The Outlaw Presents JJ Grey & Mofro
PRODID:-//ticketfly//873093-100.9 The Outlaw Presents JJ Grey & Mofro//EN
BEGIN:VEVENT
UID:873093-100.9 The Outlaw Presents JJ Grey & Mofro 873093@ticketfly.com
DTSTAMP:20150910T000000Z
DTSTART:20150910T000000Z
DTEND:20150910T010000Z
SUMMARY:100.9 The Outlaw Presents JJ Grey & Mofro
LOCATION:Cox Capitol Theatre, 382 Second Street, Macon, GA, 31201
END:VEVENT
END:VCALENDAR
